BEGIN:VCALENDAR
VERSION:2.0
PRODID:calendify.com
BEGIN:VEVENT
UID:calendify-session-vn54bEpjgkq
DTSTART:20200202T090000Z
SEQUENCE:0
TRANSP:OPAQUE
DTEND:20200202T160000Z
URL:https://calendify.com/session/vn54bEpjgkq
LOCATION:UB4.228
SUMMARY:Open Source Hardware and Soldering Workshop
CLASS:PUBLIC
DESCRIPTION:https://calendify.com/session/vn54bEpjgkq
DTSTAMP:20260424T014851Z
CREATED:20200513T234735Z
LAST-MODIFIED:20210426T093310Z
END:VEVENT
END:VCALENDAR