BEGIN:VCALENDAR
VERSION:2.0
PRODID:calendify.com
BEGIN:VEVENT
UID:calendify-session-vn54bEzWgkq
DTSTART:20180510T170000Z
SEQUENCE:0
TRANSP:OPAQUE
DTEND:20180510T180000Z
URL:https://calendify.com/session/vn54bEzWgkq
LOCATION:ZKM_Medientheater
SUMMARY:Meltdown and Spectre for normal people
CLASS:PUBLIC
DESCRIPTION:https://calendify.com/session/vn54bEzWgkq
DTSTAMP:20260422T015516Z
CREATED:20200513T011827Z
LAST-MODIFIED:20200513T011827Z
END:VEVENT
END:VCALENDAR