BEGIN:VCALENDAR
VERSION:2.0
PRODID:calendify.com
BEGIN:VEVENT
UID:calendify-session-vn54bPDGMkq
DTSTART:20210312T181500Z
SEQUENCE:0
TRANSP:OPAQUE
DTEND:20210312T191500Z
URL:https://calendify.com/session/vn54bPDGMkq
LOCATION:Zoom Room 4B
SUMMARY:Let's travel back to 2005 with today's knowledge. What online commu
 nity shall we build together?
CLASS:PUBLIC
DESCRIPTION:https://calendify.com/session/vn54bPDGMkq
DTSTAMP:20260420T172819Z
CREATED:20210426T094928Z
LAST-MODIFIED:20210426T094928Z
END:VEVENT
END:VCALENDAR