BEGIN:VCALENDAR
VERSION:2.0
PRODID:calendify.com
BEGIN:VEVENT
UID:calendify-session-vn54bPGRMkq
DTSTART:20210317T181500Z
SEQUENCE:0
TRANSP:OPAQUE
DTEND:20210317T191500Z
URL:https://calendify.com/session/vn54bPGRMkq
LOCATION:Zoom Room 8B
SUMMARY:Accessible Virtual Worlds
CLASS:PUBLIC
DESCRIPTION:https://calendify.com/session/vn54bPGRMkq
DTSTAMP:20260420T173635Z
CREATED:20210426T094605Z
LAST-MODIFIED:20210426T094929Z
END:VEVENT
END:VCALENDAR