BEGIN:VCALENDAR
VERSION:2.0
PRODID:calendify.com
BEGIN:VEVENT
UID:calendify-session-vn54bPRGMkq
DTSTART:20210313T070000Z
SEQUENCE:0
TRANSP:OPAQUE
DTEND:20210313T110000Z
URL:https://calendify.com/session/vn54bPRGMkq
LOCATION:Zoom Room 7A
SUMMARY:Mapping AI Ecosystems in the MENA
CLASS:PUBLIC
DESCRIPTION:https://calendify.com/session/vn54bPRGMkq
DTSTAMP:20260423T223450Z
CREATED:20210426T094928Z
LAST-MODIFIED:20210426T094928Z
END:VEVENT
END:VCALENDAR