BEGIN:VCALENDAR
VERSION:2.0
PRODID:calendify.com
BEGIN:VEVENT
UID:calendify-session-vn54bPaAMkq
DTSTART:20220206T093000Z
SEQUENCE:0
TRANSP:OPAQUE
DTEND:20220206T100000Z
URL:https://calendify.com/session/vn54bPaAMkq
LOCATION:D.hpc
SUMMARY:SCIP: scalable cytometry image processing using Dask in a high perf
 ormance computing environment
CLASS:PUBLIC
DESCRIPTION:https://calendify.com/session/vn54bPaAMkq
DTSTAMP:20260422T084017Z
CREATED:20220120T214608Z
LAST-MODIFIED:20220206T225004Z
END:VEVENT
END:VCALENDAR