BEGIN:VCALENDAR
VERSION:2.0
PRODID:calendify.com
BEGIN:VEVENT
UID:calendify-session-vn54bPdjMkq
DTSTART:20220205T102000Z
SEQUENCE:0
TRANSP:OPAQUE
DTEND:20220205T103500Z
URL:https://calendify.com/session/vn54bPdjMkq
LOCATION:D.trusted-hardware
SUMMARY:Short break
CLASS:PUBLIC
DESCRIPTION:https://calendify.com/session/vn54bPdjMkq
DTSTAMP:20260420T034618Z
CREATED:20220120T214602Z
LAST-MODIFIED:20220206T225002Z
END:VEVENT
END:VCALENDAR