BEGIN:VCALENDAR
VERSION:2.0
PRODID:calendify.com
BEGIN:VEVENT
UID:calendify-session-vn54bPzlMkq
DTSTART:20211031T150000Z
SEQUENCE:0
TRANSP:OPAQUE
DTEND:20211031T154500Z
URL:https://calendify.com/session/vn54bPzlMkq
LOCATION:Stream
SUMMARY:Security Safari in b0rken Land
CLASS:PUBLIC
DESCRIPTION:https://calendify.com/session/vn54bPzlMkq
DTSTAMP:20260424T024625Z
CREATED:20210916T064746Z
LAST-MODIFIED:20211101T215003Z
END:VEVENT
END:VCALENDAR