BEGIN:VCALENDAR
VERSION:2.0
PRODID:calendify.com
BEGIN:VEVENT
UID:calendify-session-vn54bQKbgkq
DTSTART:20260201T141500Z
SEQUENCE:0
TRANSP:OPAQUE
DTEND:20260201T144500Z
URL:https://calendify.com/session/vn54bQKbgkq
LOCATION:UB4.136
SUMMARY:OpenSearch v3: A New Era of Search Innovation - From Neural Sparse 
 ANN to Agentic Workflows and everything in-between
CLASS:PUBLIC
DESCRIPTION:https://calendify.com/session/vn54bQKbgkq
DTSTAMP:20260424T113111Z
CREATED:20260131T063321Z
LAST-MODIFIED:20260201T163232Z
END:VEVENT
END:VCALENDAR