BEGIN:VCALENDAR
VERSION:2.0
PRODID:calendify.com
BEGIN:VEVENT
UID:calendify-session-vn54bR5A4kq
DTSTART:20210207T163000Z
SEQUENCE:0
TRANSP:OPAQUE
DTEND:20210207T170000Z
URL:https://calendify.com/session/vn54bR5A4kq
LOCATION:D.community
SUMMARY:Zoom out to zoom in on the community 
CLASS:PUBLIC
DESCRIPTION:https://calendify.com/session/vn54bR5A4kq
DTSTAMP:20260420T012528Z
CREATED:20210111T170319Z
LAST-MODIFIED:20210208T224803Z
END:VEVENT
END:VCALENDAR