BEGIN:VCALENDAR
VERSION:2.0
PRODID:calendify.com
BEGIN:VEVENT
UID:calendify-session-vn54bRL04kq
DTSTART:20210207T113500Z
SEQUENCE:0
TRANSP:OPAQUE
DTEND:20210207T120500Z
URL:https://calendify.com/session/vn54bRL04kq
LOCATION:D.cad
SUMMARY:Low cost open-source hardware for biopotential amplification for ne
 uroscience\, prosthetics and more
CLASS:PUBLIC
DESCRIPTION:https://calendify.com/session/vn54bRL04kq
DTSTAMP:20260422T203648Z
CREATED:20210114T155443Z
LAST-MODIFIED:20210208T224803Z
END:VEVENT
END:VCALENDAR