BEGIN:VCALENDAR
VERSION:2.0
PRODID:calendify.com
BEGIN:VEVENT
UID:calendify-session-vn54bRZ94kq
DTSTART:20210207T131500Z
SEQUENCE:0
TRANSP:OPAQUE
DTEND:20210207T144500Z
URL:https://calendify.com/session/vn54bRZ94kq
LOCATION:S.kde
SUMMARY:MyGNUHealth
CLASS:PUBLIC
DESCRIPTION:https://calendify.com/session/vn54bRZ94kq
DTSTAMP:20260423T231023Z
CREATED:20210207T094804Z
LAST-MODIFIED:20210208T224804Z
END:VEVENT
END:VCALENDAR