BEGIN:VCALENDAR
VERSION:2.0
PRODID:calendify.com
BEGIN:VEVENT
UID:calendify-session-vn54bj3R4kq
DTSTART:20231230T110000Z
SEQUENCE:0
TRANSP:OPAQUE
DTEND:20231230T114000Z
URL:https://calendify.com/session/vn54bj3R4kq
LOCATION:Saal 1
SUMMARY:Blackbox Chemieindustrie
CLASS:PUBLIC
DESCRIPTION:https://calendify.com/session/vn54bj3R4kq
DTSTAMP:20260423T030934Z
CREATED:20231215T204822Z
LAST-MODIFIED:20240401T142934Z
END:VEVENT
END:VCALENDAR