BEGIN:VCALENDAR
VERSION:2.0
PRODID:calendify.com
BEGIN:VEVENT
UID:calendify-session-vn54bjA84kq
DTSTART:20231227T125000Z
SEQUENCE:0
TRANSP:OPAQUE
DTEND:20231227T133000Z
URL:https://calendify.com/session/vn54bjA84kq
LOCATION:Saal Granville
SUMMARY:Back in the Driver's Seat: Recovering Critical Data from Tesla Auto
 pilot Using Voltage Glitching
CLASS:PUBLIC
DESCRIPTION:https://calendify.com/session/vn54bjA84kq
DTSTAMP:20260422T174642Z
CREATED:20231215T204819Z
LAST-MODIFIED:20240401T142932Z
END:VEVENT
END:VCALENDAR