BEGIN:VCALENDAR
VERSION:2.0
PRODID:calendify.com
BEGIN:VEVENT
UID:calendify-session-vn54bjKj4kq
DTSTART:20231228T193000Z
SEQUENCE:0
TRANSP:OPAQUE
DTEND:20231228T200000Z
URL:https://calendify.com/session/vn54bjKj4kq
LOCATION:Stage H
SUMMARY:oreboot introduction
CLASS:PUBLIC
DESCRIPTION:https://calendify.com/session/vn54bjKj4kq
DTSTAMP:20260423T055833Z
CREATED:20231226T144002Z
LAST-MODIFIED:20240401T142932Z
END:VEVENT
END:VCALENDAR