BEGIN:VCALENDAR
VERSION:2.0
PRODID:calendify.com
BEGIN:VEVENT
UID:calendify-session-vn54bjZW4kq
DTSTART:20231230T114500Z
SEQUENCE:0
TRANSP:OPAQUE
DTEND:20231230T124500Z
URL:https://calendify.com/session/vn54bjZW4kq
LOCATION:Bits & Bäume Workshop Space
SUMMARY:Governance meetup: decision-making experiences and sustainability i
 n online communities
CLASS:PUBLIC
DESCRIPTION:https://calendify.com/session/vn54bjZW4kq
DTSTAMP:20260423T015850Z
CREATED:20231229T135003Z
LAST-MODIFIED:20240401T142934Z
END:VEVENT
END:VCALENDAR