BEGIN:VCALENDAR
VERSION:2.0
PRODID:calendify.com
BEGIN:VEVENT
UID:calendify-session-vn54bjdb4kq
DTSTART:20240330T100000Z
SEQUENCE:0
TRANSP:OPAQUE
DTEND:20240330T110000Z
URL:https://calendify.com/session/vn54bjdb4kq
LOCATION:Hardware Hegging Area - K005
SUMMARY:Platinen reparieren - #ReworkCTF 🦈
CLASS:PUBLIC
DESCRIPTION:https://calendify.com/session/vn54bjdb4kq
DTSTAMP:20260423T175602Z
CREATED:20240328T125150Z
LAST-MODIFIED:20240401T142841Z
END:VEVENT
END:VCALENDAR