BEGIN:VCALENDAR
VERSION:2.0
PRODID:calendify.com
BEGIN:VEVENT
UID:calendify-session-vn54bjkG4kq
DTSTART:20231227T180000Z
SEQUENCE:0
TRANSP:OPAQUE
DTEND:20231227T190000Z
URL:https://calendify.com/session/vn54bjkG4kq
LOCATION:Bits & Bäume Workshop Space
SUMMARY:I pack my ICT-bag for Gaza and I take with me…
CLASS:PUBLIC
DESCRIPTION:https://calendify.com/session/vn54bjkG4kq
DTSTAMP:20260423T070318Z
CREATED:20231225T232003Z
LAST-MODIFIED:20240401T142932Z
END:VEVENT
END:VCALENDAR