BEGIN:VCALENDAR
VERSION:2.0
PRODID:calendify.com
BEGIN:VEVENT
UID:calendify-session-vn54bjlj4kq
DTSTART:20231228T201500Z
SEQUENCE:0
TRANSP:OPAQUE
DTEND:20231228T211500Z
URL:https://calendify.com/session/vn54bjlj4kq
LOCATION:Bits & Bäume Workshop Space
SUMMARY:Lützerath lebt! Extended Q&A
CLASS:PUBLIC
DESCRIPTION:https://calendify.com/session/vn54bjlj4kq
DTSTAMP:20260423T060021Z
CREATED:20231226T215002Z
LAST-MODIFIED:20240401T142932Z
END:VEVENT
END:VCALENDAR