BEGIN:VCALENDAR
VERSION:2.0
PRODID:calendify.com
BEGIN:VEVENT
UID:calendify-session-vn54bjxz4kq
DTSTART:20231229T130000Z
SEQUENCE:0
TRANSP:OPAQUE
DTEND:20231229T150000Z
URL:https://calendify.com/session/vn54bjxz4kq
LOCATION:Saal D
SUMMARY:Regiotreffen
CLASS:PUBLIC
DESCRIPTION:https://calendify.com/session/vn54bjxz4kq
DTSTAMP:20260423T020018Z
CREATED:20231220T100102Z
LAST-MODIFIED:20240401T142932Z
END:VEVENT
END:VCALENDAR