BEGIN:VCALENDAR
VERSION:2.0
PRODID:calendify.com
BEGIN:VEVENT
UID:calendify-session-vn54bw7GOkq
DTSTART:20220610T153000Z
SEQUENCE:0
TRANSP:OPAQUE
DTEND:20220610T160000Z
URL:https://calendify.com/session/vn54bw7GOkq
LOCATION:Stage 3
SUMMARY:Berichterstattung in Zeiten des Krieges
CLASS:PUBLIC
DESCRIPTION:https://calendify.com/session/vn54bw7GOkq
DTSTAMP:20260419T124632Z
CREATED:20220605T230947Z
LAST-MODIFIED:20220613T235205Z
END:VEVENT
END:VCALENDAR