BEGIN:VCALENDAR
VERSION:2.0
PRODID:calendify.com
BEGIN:VEVENT
UID:calendify-session-vn54bwKlOkq
DTSTART:20220610T113000Z
SEQUENCE:0
TRANSP:OPAQUE
DTEND:20220610T120000Z
URL:https://calendify.com/session/vn54bwKlOkq
LOCATION:Stage 4
SUMMARY:Der Instagram-Guru: Eine Sekte und ihre Social Media-Strategie
CLASS:PUBLIC
DESCRIPTION:https://calendify.com/session/vn54bwKlOkq
DTSTAMP:20260420T084749Z
CREATED:20220526T162945Z
LAST-MODIFIED:20220613T235204Z
END:VEVENT
END:VCALENDAR