BEGIN:VCALENDAR
VERSION:2.0
PRODID:calendify.com
BEGIN:VEVENT
UID:calendify-session-vn54bwa9Okq
DTSTART:20220725T130000Z
SEQUENCE:0
TRANSP:OPAQUE
DTEND:20220725T143000Z
URL:https://calendify.com/session/vn54bwa9Okq
LOCATION:Hardware Hacking Area 🤖
SUMMARY:Design a circuit board with KiCad
CLASS:PUBLIC
DESCRIPTION:https://calendify.com/session/vn54bwa9Okq
DTSTAMP:20260424T025236Z
CREATED:20220715T164811Z
LAST-MODIFIED:20220726T182703Z
END:VEVENT
END:VCALENDAR