BEGIN:VCALENDAR
VERSION:2.0
PRODID:calendify.com
BEGIN:VEVENT
UID:calendify-session-vn54bwn9Okq
DTSTART:20220521T170000Z
SEQUENCE:0
TRANSP:OPAQUE
DTEND:20220521T174500Z
URL:https://calendify.com/session/vn54bwn9Okq
LOCATION:Medientheater
SUMMARY:DDoS kommt aus dem Internet und schmeckt AUA!
CLASS:PUBLIC
DESCRIPTION:https://calendify.com/session/vn54bwn9Okq
DTSTAMP:20260420T215905Z
CREATED:20220502T005752Z
LAST-MODIFIED:20220521T215002Z
END:VEVENT
END:VCALENDAR