BEGIN:VCALENDAR
VERSION:2.0
PRODID:calendify.com
BEGIN:VEVENT
UID:calendify-session-vn54bwo9Okq
DTSTART:20220722T180000Z
SEQUENCE:0
TRANSP:OPAQUE
DTEND:20220722T183000Z
URL:https://calendify.com/session/vn54bwo9Okq
LOCATION:Battery 🔋
SUMMARY:Using Passcrow to recover from lost passwords
CLASS:PUBLIC
DESCRIPTION:https://calendify.com/session/vn54bwo9Okq
DTSTAMP:20260423T171942Z
CREATED:20220620T212436Z
LAST-MODIFIED:20220726T182703Z
END:VEVENT
END:VCALENDAR