BEGIN:VCALENDAR
VERSION:2.0
PRODID:calendify.com
BEGIN:VEVENT
UID:calendify-session-yLz4E1LD4ao
DTSTART:20260201T082000Z
SEQUENCE:0
TRANSP:OPAQUE
DTEND:20260201T083500Z
URL:https://calendify.com/session/yLz4E1LD4ao
LOCATION:H.2215 (Ferrer)
SUMMARY:Four Year Bus
CLASS:PUBLIC
DESCRIPTION:https://calendify.com/session/yLz4E1LD4ao
DTSTAMP:20260424T035759Z
CREATED:20260131T063316Z
LAST-MODIFIED:20260201T163231Z
END:VEVENT
END:VCALENDAR