BEGIN:VCALENDAR
VERSION:2.0
PRODID:calendify.com
BEGIN:VEVENT
UID:calendify-session-yLz4E31rMao
DTSTART:20210207T150000Z
SEQUENCE:0
TRANSP:OPAQUE
DTEND:20210207T154000Z
URL:https://calendify.com/session/yLz4E31rMao
LOCATION:D.openjdk
SUMMARY:JCStress: Eliminating the Nightmare of Debugging Concurrency Proble
 ms
CLASS:PUBLIC
DESCRIPTION:https://calendify.com/session/yLz4E31rMao
DTSTAMP:20260419T152547Z
CREATED:20210111T170320Z
LAST-MODIFIED:20210208T224804Z
END:VEVENT
END:VCALENDAR