BEGIN:VCALENDAR
VERSION:2.0
PRODID:calendify.com
BEGIN:VEVENT
UID:calendify-session-yLz4E3JbMao
DTSTART:20210207T150500Z
SEQUENCE:0
TRANSP:OPAQUE
DTEND:20210207T152000Z
URL:https://calendify.com/session/yLz4E3JbMao
LOCATION:D.composition
SUMMARY:Double Open: An automated open source compliance pipeline for Yocto
  built on SPDX
CLASS:PUBLIC
DESCRIPTION:https://calendify.com/session/yLz4E3JbMao
DTSTAMP:20260423T135547Z
CREATED:20210111T170319Z
LAST-MODIFIED:20210208T224803Z
END:VEVENT
END:VCALENDAR