BEGIN:VCALENDAR
VERSION:2.0
PRODID:calendify.com
BEGIN:VEVENT
UID:calendify-session-yLz4E3QKMao
DTSTART:20210207T153000Z
SEQUENCE:0
TRANSP:OPAQUE
DTEND:20210207T163000Z
URL:https://calendify.com/session/yLz4E3QKMao
LOCATION:D.postgresql
SUMMARY:Database Disasters and How to Find Them
CLASS:PUBLIC
DESCRIPTION:https://calendify.com/session/yLz4E3QKMao
DTSTAMP:20260419T224622Z
CREATED:20210111T170320Z
LAST-MODIFIED:20210208T224804Z
END:VEVENT
END:VCALENDAR