BEGIN:VCALENDAR
VERSION:2.0
PRODID:calendify.com
BEGIN:VEVENT
UID:calendify-session-yLz4E3VeMao
DTSTART:20210206T125500Z
SEQUENCE:0
TRANSP:OPAQUE
DTEND:20210206T132000Z
URL:https://calendify.com/session/yLz4E3VeMao
LOCATION:D.hardware.trusted
SUMMARY:Exploiting Interfaces of SEV-ES-protected Virtual Machines
CLASS:PUBLIC
DESCRIPTION:https://calendify.com/session/yLz4E3VeMao
DTSTAMP:20260424T020427Z
CREATED:20210111T170318Z
LAST-MODIFIED:20210208T224802Z
END:VEVENT
END:VCALENDAR