BEGIN:VCALENDAR
VERSION:2.0
PRODID:calendify.com
BEGIN:VEVENT
UID:calendify-session-yLz4E3XEMao
DTSTART:20210207T110500Z
SEQUENCE:0
TRANSP:OPAQUE
DTEND:20210207T112500Z
URL:https://calendify.com/session/yLz4E3XEMao
LOCATION:D.declarative.minimalistic
SUMMARY:Declarative and Minimalistic Computing
CLASS:PUBLIC
DESCRIPTION:https://calendify.com/session/yLz4E3XEMao
DTSTAMP:20260424T030653Z
CREATED:20210201T190823Z
LAST-MODIFIED:20210208T224804Z
END:VEVENT
END:VCALENDAR