BEGIN:VCALENDAR
VERSION:2.0
PRODID:calendify.com
BEGIN:VEVENT
UID:calendify-session-yLz4E3xDMao
DTSTART:20210206T083000Z
SEQUENCE:0
TRANSP:OPAQUE
DTEND:20210206T090000Z
URL:https://calendify.com/session/yLz4E3xDMao
LOCATION:S.eclipse
SUMMARY:Welcome to the stand for the Eclipse Foundation
CLASS:PUBLIC
DESCRIPTION:https://calendify.com/session/yLz4E3xDMao
DTSTAMP:20260419T223610Z
CREATED:20210205T143303Z
LAST-MODIFIED:20210208T224803Z
END:VEVENT
END:VCALENDAR