BEGIN:VCALENDAR
VERSION:2.0
PRODID:calendify.com
BEGIN:VEVENT
UID:calendify-session-yLz4E3yKMao
DTSTART:20210207T160000Z
SEQUENCE:0
TRANSP:OPAQUE
DTEND:20210207T162500Z
URL:https://calendify.com/session/yLz4E3yKMao
LOCATION:D.web.performance
SUMMARY:WebPageTest Update and License discussion
CLASS:PUBLIC
DESCRIPTION:https://calendify.com/session/yLz4E3yKMao
DTSTAMP:20260424T040307Z
CREATED:20210111T170320Z
LAST-MODIFIED:20210208T224804Z
END:VEVENT
END:VCALENDAR