BEGIN:VCALENDAR
VERSION:2.0
PRODID:calendify.com
BEGIN:VEVENT
UID:calendify-session-yLz4E91E4ao
DTSTART:20241229T160000Z
SEQUENCE:0
TRANSP:OPAQUE
DTEND:20241229T164500Z
URL:https://calendify.com/session/yLz4E91E4ao
LOCATION:KliMathematik Augsburg\, look in description
SUMMARY:Wie geht aktivistische Pressearbeit? Reichweite für erfolgreiche u
 nd verhinderte Aktionen. Workshop
CLASS:PUBLIC
DESCRIPTION:https://calendify.com/session/yLz4E91E4ao
DTSTAMP:20260419T123807Z
CREATED:20241229T093004Z
LAST-MODIFIED:20250101T225004Z
END:VEVENT
END:VCALENDAR