BEGIN:VCALENDAR
VERSION:2.0
PRODID:calendify.com
BEGIN:VEVENT
UID:calendify-session-yLz4EJ9eOao
DTSTART:20240921T130000Z
SEQUENCE:0
TRANSP:OPAQUE
DTEND:20240921T134500Z
URL:https://calendify.com/session/yLz4EJ9eOao
LOCATION:Henny Brenner Saal
SUMMARY:Von Opfermythos und Gedenkzirkus: Der 13. Februar in Dresden
CLASS:PUBLIC
DESCRIPTION:https://calendify.com/session/yLz4EJ9eOao
DTSTAMP:20260420T233615Z
CREATED:20241208T220338Z
LAST-MODIFIED:20241208T220338Z
END:VEVENT
END:VCALENDAR