BEGIN:VCALENDAR
VERSION:2.0
PRODID:calendify.com
BEGIN:VEVENT
UID:calendify-session-yLz4EJAbOao
DTSTART:20241227T150000Z
SEQUENCE:0
TRANSP:OPAQUE
DTEND:20241227T170000Z
URL:https://calendify.com/session/yLz4EJAbOao
LOCATION:CDC Pentagon
SUMMARY:Hacking Hardware Interfaces for Reticulum
CLASS:PUBLIC
DESCRIPTION:https://calendify.com/session/yLz4EJAbOao
DTSTAMP:20260424T041905Z
CREATED:20241227T141500Z
LAST-MODIFIED:20251019T194651Z
END:VEVENT
END:VCALENDAR