BEGIN:VCALENDAR
VERSION:2.0
PRODID:calendify.com
BEGIN:VEVENT
UID:calendify-session-yLz4EKweMao
DTSTART:20200411T170000Z
SEQUENCE:0
TRANSP:OPAQUE
DTEND:20200411T174500Z
URL:https://calendify.com/session/yLz4EKweMao
LOCATION:Feinler
SUMMARY:Ein kurzer Blick in .git/
CLASS:PUBLIC
DESCRIPTION:https://calendify.com/session/yLz4EKweMao
DTSTAMP:20260423T204312Z
CREATED:20200429T012726Z
LAST-MODIFIED:20200429T012726Z
END:VEVENT
END:VCALENDAR