BEGIN:VCALENDAR
VERSION:2.0
PRODID:calendify.com
BEGIN:VEVENT
UID:calendify-session-yLz4EPmKgao
DTSTART:20171227T184500Z
SEQUENCE:0
TRANSP:OPAQUE
DTEND:20171227T191500Z
URL:https://calendify.com/session/yLz4EPmKgao
LOCATION:Saal Clarke
SUMMARY:Watching the changing Earth
CLASS:PUBLIC
DESCRIPTION:https://calendify.com/session/yLz4EPmKgao
DTSTAMP:20260422T204112Z
CREATED:20200625T113327Z
LAST-MODIFIED:20200625T113327Z
END:VEVENT
END:VCALENDAR