BEGIN:VCALENDAR
VERSION:2.0
PRODID:calendify.com
BEGIN:VEVENT
UID:calendify-session-yLz4ER7EOao
DTSTART:20220724T150000Z
SEQUENCE:0
TRANSP:OPAQUE
DTEND:20220724T155000Z
URL:https://calendify.com/session/yLz4ER7EOao
LOCATION:Abacus 🧮
SUMMARY:Hacking the pandemic's most popular software: Zoom
CLASS:PUBLIC
DESCRIPTION:https://calendify.com/session/yLz4ER7EOao
DTSTAMP:20260424T040034Z
CREATED:20220620T212434Z
LAST-MODIFIED:20220726T182703Z
END:VEVENT
END:VCALENDAR