BEGIN:VCALENDAR
VERSION:2.0
PRODID:calendify.com
BEGIN:VEVENT
UID:calendify-session-yLz4ERKKOao
DTSTART:20220205T090000Z
SEQUENCE:0
TRANSP:OPAQUE
DTEND:20220205T100000Z
URL:https://calendify.com/session/yLz4ERKKOao
LOCATION:S.kde
SUMMARY:Plasma Mobile in 2022
CLASS:PUBLIC
DESCRIPTION:https://calendify.com/session/yLz4ERKKOao
DTSTAMP:20260420T230532Z
CREATED:20220203T031002Z
LAST-MODIFIED:20220206T225003Z
END:VEVENT
END:VCALENDAR