BEGIN:VCALENDAR
VERSION:2.0
PRODID:calendify.com
BEGIN:VEVENT
UID:calendify-session-yLz4ERNXOao
DTSTART:20220608T111500Z
SEQUENCE:0
TRANSP:OPAQUE
DTEND:20220608T114500Z
URL:https://calendify.com/session/yLz4ERNXOao
LOCATION:Lightning Box 1
SUMMARY:Social Media und Resilienz in Krisenzeiten
CLASS:PUBLIC
DESCRIPTION:https://calendify.com/session/yLz4ERNXOao
DTSTAMP:20260423T204306Z
CREATED:20220526T162949Z
LAST-MODIFIED:20220613T235204Z
END:VEVENT
END:VCALENDAR