BEGIN:VCALENDAR
VERSION:2.0
PRODID:calendify.com
BEGIN:VEVENT
UID:calendify-session-yLz4ERawOao
DTSTART:20220609T091500Z
SEQUENCE:0
TRANSP:OPAQUE
DTEND:20220609T101500Z
URL:https://calendify.com/session/yLz4ERawOao
LOCATION:Meetup Red
SUMMARY:Networking with Innovators and Entrepreneurs from Africa - The Afri
 ca-Berlin Initiative
CLASS:PUBLIC
DESCRIPTION:https://calendify.com/session/yLz4ERawOao
DTSTAMP:20260423T085144Z
CREATED:20220527T095934Z
LAST-MODIFIED:20220613T235204Z
END:VEVENT
END:VCALENDAR