BEGIN:VCALENDAR
VERSION:2.0
PRODID:calendify.com
BEGIN:VEVENT
UID:calendify-session-yLz4ERlEOao
DTSTART:20151229T193000Z
SEQUENCE:0
TRANSP:OPAQUE
DTEND:20151229T200000Z
URL:https://calendify.com/session/yLz4ERlEOao
LOCATION:Hall G
SUMMARY:20 OSCILLATORS IN 20 MINUTES 
CLASS:PUBLIC
DESCRIPTION:https://calendify.com/session/yLz4ERlEOao
DTSTAMP:20260421T070907Z
CREATED:20220415T142918Z
LAST-MODIFIED:20220415T142918Z
END:VEVENT
END:VCALENDAR