BEGIN:VCALENDAR
VERSION:2.0
PRODID:calendify.com
BEGIN:VEVENT
UID:calendify-session-yLz4EV0XOao
DTSTART:20211228T143000Z
SEQUENCE:0
TRANSP:OPAQUE
DTEND:20211228T144500Z
URL:https://calendify.com/session/yLz4EV0XOao
LOCATION:Chaosstudio Hamburg
SUMMARY:Closer Encounters – Werkstatt – 2
CLASS:PUBLIC
DESCRIPTION:https://calendify.com/session/yLz4EV0XOao
DTSTAMP:20260420T203354Z
CREATED:20211223T124316Z
LAST-MODIFIED:20211230T225002Z
END:VEVENT
END:VCALENDAR