BEGIN:VCALENDAR
VERSION:2.0
PRODID:calendify.com
BEGIN:VEVENT
UID:calendify-session-yLz4EV5DOao
DTSTART:20220205T115000Z
SEQUENCE:0
TRANSP:OPAQUE
DTEND:20220205T120500Z
URL:https://calendify.com/session/yLz4EV5DOao
LOCATION:D.research
SUMMARY:What is special about open source research software and why does it
  matters?
CLASS:PUBLIC
DESCRIPTION:https://calendify.com/session/yLz4EV5DOao
DTSTAMP:20260422T164722Z
CREATED:20220120T214603Z
LAST-MODIFIED:20220206T225003Z
END:VEVENT
END:VCALENDAR