BEGIN:VCALENDAR
VERSION:2.0
PRODID:calendify.com
BEGIN:VEVENT
UID:calendify-session-yLz4EV8eOao
DTSTART:20220205T083000Z
SEQUENCE:0
TRANSP:OPAQUE
DTEND:20220205T090000Z
URL:https://calendify.com/session/yLz4EV8eOao
LOCATION:S.eclipse
SUMMARY:Welcome to the Eclipse Foundation stand
CLASS:PUBLIC
DESCRIPTION:https://calendify.com/session/yLz4EV8eOao
DTSTAMP:20260420T034709Z
CREATED:20220120T214604Z
LAST-MODIFIED:20220206T225003Z
END:VEVENT
END:VCALENDAR