BEGIN:VCALENDAR
VERSION:2.0
PRODID:calendify.com
BEGIN:VEVENT
UID:calendify-session-yLz4EVBwOao
DTSTART:20210310T201500Z
SEQUENCE:0
TRANSP:OPAQUE
DTEND:20210310T211500Z
URL:https://calendify.com/session/yLz4EVBwOao
LOCATION:Zoom Room 2A
SUMMARY:A Typology of Trust for AI: Design An Intervention to A Specific AI
  Harm
CLASS:PUBLIC
DESCRIPTION:https://calendify.com/session/yLz4EVBwOao
DTSTAMP:20260422T153810Z
CREATED:20210426T094927Z
LAST-MODIFIED:20210426T094927Z
END:VEVENT
END:VCALENDAR