BEGIN:VCALENDAR
VERSION:2.0
PRODID:calendify.com
BEGIN:VEVENT
UID:calendify-session-yLz4EVKwOao
DTSTART:20210311T201500Z
SEQUENCE:0
TRANSP:OPAQUE
DTEND:20210311T211500Z
URL:https://calendify.com/session/yLz4EVKwOao
LOCATION:Zoom Room 3A
SUMMARY:Planning for blended online/offline spaces
CLASS:PUBLIC
DESCRIPTION:https://calendify.com/session/yLz4EVKwOao
DTSTAMP:20260420T192152Z
CREATED:20210426T094927Z
LAST-MODIFIED:20210426T094927Z
END:VEVENT
END:VCALENDAR