BEGIN:VCALENDAR
VERSION:2.0
PRODID:calendify.com
BEGIN:VEVENT
UID:calendify-session-yLz4EVPVOao
DTSTART:20210312T161500Z
SEQUENCE:0
TRANSP:OPAQUE
DTEND:20210312T170000Z
URL:https://calendify.com/session/yLz4EVPVOao
LOCATION:Zoom Room 6B
SUMMARY:Mozilla Data Futures Lab Launch
CLASS:PUBLIC
DESCRIPTION:https://calendify.com/session/yLz4EVPVOao
DTSTAMP:20260422T180636Z
CREATED:20210426T094928Z
LAST-MODIFIED:20210426T094928Z
END:VEVENT
END:VCALENDAR