BEGIN:VCALENDAR
VERSION:2.0
PRODID:calendify.com
BEGIN:VEVENT
UID:calendify-session-yLz4EVWQOao
DTSTART:20211229T120000Z
SEQUENCE:0
TRANSP:OPAQUE
DTEND:20211229T131500Z
URL:https://calendify.com/session/yLz4EVWQOao
LOCATION:franconian.net
SUMMARY:Build Your Own Construction Kit
CLASS:PUBLIC
DESCRIPTION:https://calendify.com/session/yLz4EVWQOao
DTSTAMP:20260422T194900Z
CREATED:20211220T014017Z
LAST-MODIFIED:20211230T225002Z
END:VEVENT
END:VCALENDAR